BEGIN:VCALENDAR
VERSION:2.0
PRODID:-//hacksw/handcal//NONSGML v1.0//EN
CALSCALE:GREGORIAN
BEGIN:VEVENT
LOCATION:125 E.11th Street\, New York\, NY 10003
DESCRIPTION:TABLE RESERVATIONS: VIP@WEBSTERHALL.COM. MUST HAVE VALID PHYSICAL ID FOR ENTRY
DTSTART:20260523T010000Z
DTEND:20260523T030000Z
SUMMARY:Club 90s presents: Euphoria Rave
URL;VALUE=URI:https://www.axs.com/events/1415349/club-90s-presents-euphoria-rave-tickets
DTSTAMP:20260421T060156Z
UID:69e712d44df91
END:VEVENT
END:VCALENDAR
