BEGIN:VCALENDAR
VERSION:2.0
PRODID:-//hacksw/handcal//NONSGML v1.0//EN
CALSCALE:GREGORIAN
BEGIN:VEVENT
LOCATION:421 N. 7th Street\, Philadelphia\, PA 19123
DESCRIPTION:The event organizer has decided that resale of tickets on AXS Resale will not be immediately available for this event but may become available at a later date. Resale tickets may exceed face value and prices are NOT set by the artist or artist team. Please review the terms of AXS&rsquo\;s Purchase Agreement (axs.com/purchaseagreement) for more information. 
For ADA assistance and enquiries please e-mail :&nbsp\;UTassistance@bowerypresents.com
For general help :&nbsp\;UTinfo@bowerypresents.com
DTSTART:20260926T000000Z
DTEND:20260926T020000Z
SUMMARY:Jane Remover - Venue Upgrade to Franklin Music Hall
URL;VALUE=URI:https://www.axs.com/events/1415117/jane-remover-venue-upgrade-to-franklin-music-hall-tickets
DTSTAMP:20260423T154739Z
UID:69ea3f1b00754
END:VEVENT
END:VCALENDAR
