BEGIN:VCALENDAR
VERSION:2.0
PRODID:-//hacksw/handcal//NONSGML v1.0//EN
CALSCALE:GREGORIAN
BEGIN:VEVENT
LOCATION:Gardner Ave. & Thomas St.\, Brooklyn\, NY 11222
DESCRIPTION:
DTSTART:20260926T180000Z
DTEND:20260926T200000Z
SUMMARY:CBGB Festival ft. Morrissey\, Patti Smith\, Interpol\, Sex Pistols (Steve Jones\, Paul Cook\, Glen Matlock) & more
URL;VALUE=URI:https://www.axs.com/events/1415116/cbgb-festival-ft-morrissey-patti-smith-interpol-sex-pistols-steve-tickets
DTSTAMP:20260421T173257Z
UID:69e7b4c97e30a
END:VEVENT
END:VCALENDAR
