BEGIN:VCALENDAR
VERSION:2.0
PRODID:-//hacksw/handcal//NONSGML v1.0//EN
CALSCALE:GREGORIAN
BEGIN:VEVENT
LOCATION:421 N. 7th Street\, Philadelphia\, PA 19123
DESCRIPTION:
DTSTART:20261104T010000Z
DTEND:20261104T030000Z
SUMMARY:PALACE
URL;VALUE=URI:https://www.axs.com/events/1414923/palace-tickets
DTSTAMP:20260423T155528Z
UID:69ea40f07456e
END:VEVENT
END:VCALENDAR
