BEGIN:VCALENDAR
VERSION:2.0
PRODID:-//hacksw/handcal//NONSGML v1.0//EN
CALSCALE:GREGORIAN
BEGIN:VEVENT
LOCATION:431 West 16th Street\, New York\, NY 10011
DESCRIPTION:Preferred Viewing access to a prime viewing area with limited lounge seating available first come first serve. Includes access to the nearest bar with dedicated space to order.
DTSTART:20260531T003000Z
DTEND:20260531T023000Z
SUMMARY:Broadway Rave
URL;VALUE=URI:https://www.axs.com/events/1414573/broadway-rave-tickets
DTSTAMP:20260423T081509Z
UID:69e9d50d2ae01
END:VEVENT
END:VCALENDAR
