BEGIN:VCALENDAR
VERSION:2.0
PRODID:-//hacksw/handcal//NONSGML v1.0//EN
CALSCALE:GREGORIAN
BEGIN:VEVENT
LOCATION:421 N. 7th Street\, Philadelphia\, PA 19123
DESCRIPTION:
DTSTART:20261001T000000Z
DTEND:20261001T020000Z
SUMMARY:Julia Wolf
URL;VALUE=URI:https://www.axs.com/events/1406221/julia-wolf-tickets
DTSTAMP:20260423T171549Z
UID:69ea53c5d6f22
END:VEVENT
END:VCALENDAR
